Workbook

Sheet 登録申請書（記入上の注意・記入例）
A1: 令和８年度 地区中学校新人体育大会
A2: 地域クラブ活動 参加登録申請書
A4: 性別・競技名 | G4: 男子 | J4: ハンドボール
A5: 団体名 | G5: 琉球ハンドボールキングス | Q5: 略称名 | S5: 琉球キングス
A6: 活動所在地（市町名） | G6: 浦添
A7: 団体所在地（代表者住所） | G7: 〒000-0000 那覇市奥武山町５１番地２ ３０１号室（沖縄県体協スポーツ会館内）
A8: 代表者名 | G8: 沖縄 太郎
A9: 申請責任者名 | G9: 琉球 次郎
A10: 申請責任者連絡先（携帯） | G10: 000-0000-0000
A11: 申請責任者連絡先（メール） | G11: ・・・・・・・・@・・・・・・
A12: スタッフ名（４名までの氏名入力可） | G12: ① | H12: 琉球 一郎 | K12: ② | L12: 琉球 次郎 | O12: ③ | P12: 琉球 三郎 | S12: ④ | T12: 琉球 四郎
A13: 指導資格名（無い場合は「無」と記入）
A14: 資格認定団体名
A15: 活動状況 | E15: 活動時間 | G15: 平日 時 / 休日 時間 | N15: 休養日 | P15: 平日 曜日 / 休日 曜日
A16: 県競技団体への登録 | G16: 済
A17: 登録選手人数 | G17: 15 | I17: 名
A19: （ | D19: ） | E19: 地区中学校体育連盟会長 | L19: 様
A21: 私たちの団体は、開催基準を確認・理解した上で、下記のとおり、参加資格を満たして
A22: おりますので、地区中学校新人体育大会への参加を申請します。
A24: 《参加資格》※✔をお願いします。認定のためには、すべてに☑が必要です。
A25: ✔ | B25: 県中体連の目的及び長年にわたる活動を理解し、それを尊重して大会へ参加します。
A26: ✔ | B26: 日常継続的に、代表者もしくは指導資格を有する指導者の指導のもと、適切に活動が行われています。
A27: ✔ | B27: 沖縄県の各競技団体に登録して（認定されて）います。（未登録の場合はすぐに登録します。）
A28: ✔ | B28: 参加する選手は、他の学校部活動や他の地域クラブとの二重登録（重複登録）をしていないことを確認しています。
A29: ✔ | B29: 『学校部活動及び新たな地域クラブ活動の在り方等に関する総合的なガイドライン』（令和４年12月27日スポーツ庁•文化庁発出）の「II新たな地域クラブ活動」を遵守して活動しています。
A30: ✔ | B30: 指導者は、各中央競技団体の倫理規程等に基づいて、各競技団体等から処分を受けておりません。
A31: ✔ | B31: 予選会を含めた全ての大会において、監督会への参加や、競技役員や審判など運営上必要な事項に協力します。
A32: ✔ | B32: 選手及び指導者は、スポーツ安全保険またはそれと同等の補償内容を有する保険の傷害保険および賠償責任保険に加入しています。（未登録の場合はすぐに登録します。）
A33: ✔ | B33: 輸送費、交通手段、引率については、保護者もしくはチーム代表者の責任のもとに行います。
A34: ✔ | B34: 地区大会への参加にあたり、責任ある代表者・指導者が生徒を責任もって引率します。
A35: ✔ | B35: 移動中、競技中、会場内外での事故やけがが起こった場合の責任は、チーム・保護者の責任となります。
C37: 令和 | E37: 8 | F37: 年 | G37: 9 | H37: 月 | I37: 13 | J37: 日
L38: 団体名 | O38: =G5 -> 琉球ハンドボールキングス
L40: 代表者名 | O40: =G8 -> 沖縄 太郎
A41: ※ 参加登録申請は毎年行ってください。
A42: ※ 各競技申請〆切（締切厳守）までに地区中学校体育連盟事務局へメールにて提出。
A43: 申込み後、2週間が過ぎても参加認定の連絡（メール）かない場合は、県中体連までお問い合せください。
A44: 提出先：各地区中学校体育連盟ホームページでご確認ください。
A45: ※ 別紙「沖縄県中学校体育連盟 個人情報保護方針」についてもご確認ください。

Sheet 登録申請書
A1: 令和８年度 地区中学校新人体育大会
A2: 地域クラブ活動 参加登録申請書
A4: 性別・競技名
A5: 団体名 | Q5: 略称名
A6: 活動所在地（市町名）
A7: 団体所在地（代表者住所）
A8: 代表者名
A9: 申請責任者名
A10: 申請責任者連絡先（携帯）
A11: 申請責任者連絡先（メール）
A12: スタッフ名（４名までの入力可） | G12: ① | K12: ② | O12: ③ | S12: ④
A13: 指導資格名（無い場合は「無」）
A14: 資格認定団体名
A15: 活動状況 | E15: 活動時間 | G15: 平日 時間 / 休日 時間 | N15: 休養日 | P15: 平日 曜日 / 休日 曜日
A16: 県競技団体への登録
A17: 登録選手人数 | I17: 名
A19: （ | D19: ） | E19: 地区中学校体育連盟会長 | L19: 様
A21: 私たちの団体は、開催基準を確認・理解した上で、下記のとおり、参加資格を満たして
A22: おりますので、地区中学校新人体育大会への参加を申請します。
A24: 《参加資格》※ ✔ をお願いします。認定のためには、すべてに ✔ が必要です。
B25: 県中体連の目的及び長年にわたる活動を理解し、それを尊重して大会へ参加します。
B26: 日常継続的に、代表者もしくは指導資格を有する指導者の指導のもと、適切に活動が行われています。
B27: 沖縄県の各競技団体に登録して（認定されて）います。（未登録の場合はすぐに登録します。）
B28: 参加する選手は、他の学校部活動や他の地域クラブとの二重登録（重複登録）をしていないことを確認しています。
B29: 『学校部活動及び新たな地域クラブ活動の在り方等に関する総合的なガイドライン』（令和４年12月27日スポーツ庁•文化庁発出）の「II新たな地域クラブ活動」を遵守して活動しています。
B30: 指導者は、各中央競技団体(日本協会)の倫理規程等に基づいて、各競技団体(県・市町村協会)等から処分を受けておりません。
B31: 予選会を含めた全ての大会において、監督会への参加や、競技役員や審判など運営上必要な事項に協力します。
B32: 選手及び指導者は、スポーツ安全保険またはそれと同等の補償内容を有する保険の傷害保険および賠償責任保険に加入しています。（未登録の場合はすぐに登録します。）
B33: 輸送費、交通手段、引率については、保護者もしくはチーム代表者の責任のもとに行います。
B34: 地区大会への参加にあたり、責任ある代表者・指導者が生徒を責任もって引率します。
B35: 移動中、競技中、会場内外での事故やけがが起こった場合の責任は、チーム・保護者の責任となります。
C37: 令和 | F37: 年 | H37: 月 | J37: 日
L38: 団体名 | O38: =G5 -> 0
L40: 代表者名 | O40: =G8 -> 0
A41: ※ 参加登録申請は毎年行ってください。
A42: ※ 各競技申請〆切（締切厳守）までに地区中学校体育連盟事務局へメールにて提出。
A43: 申込み後、2週間が過ぎても参加認定の連絡（メール）かない場合は、県中体連までお問い合せください。
A44: 提出先：各地区中学校体育連盟ホームページでご確認ください。
A45: ※ 別紙「沖縄県中学校体育連盟 個人情報保護方針」についてもご確認ください。

Sheet 登録選手名簿①
A1: 令和８年度 地区中学校新人体育大会
A2: 地域クラブ活動 参加登録選手名簿
O3: No.1
A4: チーム名 | D4: =登録申請書!S5 -> 0 | H4: 性別 | I4: =登録申請書!G4 -> 0 | L4: 所在地 | N4: =登録申請書!G6 -> 0
A5: 申請責任者 | D5: =登録申請書!G9 -> 0 | H5: 連絡先 | J5: =登録申請書!G10 -> 0
A6: チームスタッフ | E6: ① | F6: =登録申請書!H12 -> 0 | I6: ② | J6: =登録申請書!L12 -> 0 | M6: ③ | N6: =登録申請書!P12 -> 0
E7: ④ | F7: =登録申請書!T12 -> 0
A8: NO | B8: 選手名 | F8: ふりがな | J8: 市町名 | L8: 学校名 | O8: 学年 | P8: 保険
A9: 例 | B9: 沖縄 太朗 | F9: おきなわ たろう | J9: 那覇 | L9: 奥武山 | O9: 2 | P9: 〇
A10: 1
A11: 2
A12: 3
A13: 4
A14: 5
A15: 6
A16: 7
A17: 8
A18: 9
A19: 10
A20: 11
A21: 12
... A29: 20
A30: 選手欄が足りない場合は、登録選手名簿②へ記載してください。

Sheet 登録選手名簿②
A1: 令和８年度 地区中学校新人体育大会
A2: 地域クラブ活動 参加登録選手名簿
O3: No.2
A4: チーム名 | D4: =登録申請書!S5 -> 0 | H4: 性別 | I4: =登録申請書!G4 -> 0 | L4: 所在地 | N4: =登録申請書!G6 -> 0
A5: 申請責任者 | D5: =登録申請書!G9 -> 0 | H5: 連絡先 | J5: =登録申請書!G10 -> 0
A6: チームスタッフ | E6: ① | F6: =登録申請書!H12 -> 0 | I6: ② | J6: =登録申請書!L12 -> 0 | M6: ③ | N6: =登録申請書!P12 -> 0
E7: ④ | F7: =登録申請書!T12 -> 0
A8: NO | B8: 選手名 | F8: ふりがな | J8: 市町名 | L8: 学校名 | O8: 学年 | P8: 保険
A9: 例 | B9: 沖縄 太朗 | F9: おきなわ たろう | J9: 那覇 | L9: 奥武山 | O9: 2 | P9: 〇
A10: 21
A11: 22
A12: 23
A13: 24
A14: 25
A15: 26
A16: 27
A17: 28
A18: 29
A19: 30
A20: 31
A21: 32
... A29: 40
A30: 選手欄が足りない場合は、登録選手名簿③へ記載してください。

Sheet 登録選手名簿③
A1: 令和８年度 地区中学校新人体育大会
A2: 地域クラブ活動 参加登録選手名簿
O3: No.3
A4: チーム名 | D4: =登録申請書!S5 -> 0 | H4: 性別 | I4: =登録申請書!G4 -> 0 | L4: 所在地 | N4: =登録申請書!G6 -> 0
A5: 申請責任者 | D5: =登録申請書!G9 -> 0 | H5: 連絡先 | J5: =登録申請書!G10 -> 0
A6: チームスタッフ | E6: ① | F6: =登録申請書!H12 -> 0 | I6: ② | J6: =登録申請書!L12 -> 0 | M6: ③ | N6: =登録申請書!P12 -> 0
E7: ④ | F7: =登録申請書!T12 -> 0
A8: NO | B8: 選手名 | F8: ふりがな | J8: 市町名 | L8: 学校名 | O8: 学年 | P8: 保険
A9: 例 | B9: 沖縄 太朗 | F9: おきなわ たろう | J9: 那覇 | L9: 奥武山 | O9: 2 | P9: 〇
A10: 41
A11: 42
A12: 43
A13: 44
A14: 45
A15: 46
A16: 47
A17: 48
A18: 49
A19: 50
A20: 51
A21: 52
... A29: 60

Sheet 中体連処理用1
A1: =#REF! -> #REF! | B1: =#REF! -> #REF! | C1: =#REF! -> #REF! | D1: =#REF! -> #REF! | E1: =#REF! -> #REF! | F1: =#REF! -> #REF! | G1: =#REF! -> #REF! | H1: =#REF! -> #REF! | ... L1: =#REF! -> #REF!

Sheet 中体連処理用2
A1: =IF(ISTEXT(D1),#REF!,"") | B1: =IF(ISTEXT(D1),#REF!,"") | C1: =IF(ISTEXT(D1),#REF!,"") | D1: =#REF! -> #REF! | E1: =#REF! -> #REF! | F1: =#REF! -> #REF! | G1: =#REF! -> #REF!
A2: =IF(ISTEXT(D2),#REF!,"") | B2: =IF(ISTEXT(D2),#REF!,"") | C2: =IF(ISTEXT(D2),#REF!,"") | D2: =#REF! -> #REF! | E2: =#REF! -> #REF! | F2: =#REF! -> #REF! | G2: =#REF! -> #REF!
A3: =IF(ISTEXT(D3),#REF!,"") | B3: =IF(ISTEXT(D3),#REF!,"") | C3: =IF(ISTEXT(D3),#REF!,"") | D3: =#REF! -> #REF! | E3: =#REF! -> #REF! | F3: =#REF! -> #REF! | G3: =#REF! -> #REF!
A4: =IF(ISTEXT(D4),#REF!,"") | B4: =IF(ISTEXT(D4),#REF!,"") | C4: =IF(ISTEXT(D4),#REF!,"") | D4: =#REF! -> #REF! | E4: =#REF! -> #REF! | F4: =#REF! -> #REF! | G4: =#REF! -> #REF!
A5: =IF(ISTEXT(D5),#REF!,"") | B5: =IF(ISTEXT(D5),#REF!,"") | C5: =IF(ISTEXT(D5),#REF!,"") | D5: =#REF! -> #REF! | E5: =#REF! -> #REF! | F5: =#REF! -> #REF! | G5: =#REF! -> #REF!
A6: =IF(ISTEXT(D6),#REF!,"") | B6: =IF(ISTEXT(D6),#REF!,"") | C6: =IF(ISTEXT(D6),#REF!,"") | D6: =#REF! -> #REF! | E6: =#REF! -> #REF! | F6: =#REF! -> #REF! | G6: =#REF! -> #REF!
A7: =IF(ISTEXT(D7),#REF!,"") | B7: =IF(ISTEXT(D7),#REF!,"") | C7: =IF(ISTEXT(D7),#REF!,"") | D7: =#REF! -> #REF! | E7: =#REF! -> #REF! | F7: =#REF! -> #REF! | G7: =#REF! -> #REF!
A8: =IF(ISTEXT(D8),#REF!,"") | B8: =IF(ISTEXT(D8),#REF!,"") | C8: =IF(ISTEXT(D8),#REF!,"") | D8: =#REF! -> #REF! | E8: =#REF! -> #REF! | F8: =#REF! -> #REF! | G8: =#REF! -> #REF!
A9: =IF(ISTEXT(D9),#REF!,"") | B9: =IF(ISTEXT(D9),#REF!,"") | C9: =IF(ISTEXT(D9),#REF!,"") | D9: =#REF! -> #REF! | E9: =#REF! -> #REF! | F9: =#REF! -> #REF! | G9: =#REF! -> #REF!
A10: =IF(ISTEXT(D10),#REF!,"") | B10: =IF(ISTEXT(D10),#REF!,"") | C10: =IF(ISTEXT(D10),#REF!,"") | D10: =#REF! -> #REF! | E10: =#REF! -> #REF! | F10: =#REF! -> #REF! | G10: =#REF! -> #REF!
A11: =IF(ISTEXT(D11),#REF!,"") | B11: =IF(ISTEXT(D11),#REF!,"") | C11: =IF(ISTEXT(D11),#REF!,"") | D11: =#REF! -> #REF! | E11: =#REF! -> #REF! | F11: =#REF! -> #REF! | G11: =#REF! -> #REF!
A12: =IF(ISTEXT(D12),#REF!,"") | B12: =IF(ISTEXT(D12),#REF!,"") | C12: =IF(ISTEXT(D12),#REF!,"") | D12: =#REF! -> #REF! | E12: =#REF! -> #REF! | F12: =#REF! -> #REF! | G12: =#REF! -> #REF!
... A24: =IF(ISTEXT(D24),#REF!,"") | B24: =IF(ISTEXT(D24),#REF!,"") | C24: =IF(ISTEXT(D24),#REF!,"") | D24: =#REF! -> #REF! | E24: =#REF! -> #REF! | F24: =#REF! -> #REF! | G24: =#REF! -> #REF!

Sheet データ
A3: 国頭 | E3: 陸上競技 | I3: 〇 | K3: 国 頭
A4: 大宜味 | E4: 水泳競技 | I4: △ | K4: 中 頭
A5: 東 | E5: 体操競技 | K5: 那 覇
A6: 今帰仁 | E6: 新体操 | I6: ✔ | K6: 島 尻
A7: 本部 | E7: バスケットボール | K7: 宮 古
A8: 名護 | E8: バレーボール | K8: 八重山
A9: 宜野座 | E9: ハンドボール
A10: 金武 | E10: サッカー
A11: 伊江 | E11: 軟式野球
A12: 伊平屋 | E12: 卓球
A13: 伊是名 | E13: 相撲
A14: 恩納 | E14: 柔道
A15: うるま | E15: 剣道
A16: 読谷 | E16: バドミントン
A17: 嘉手納 | E17: ソフトボール
A18: 沖縄 | E18: ソフトテニス
A19: 北谷 | E19: 空手道
A20: 宜野湾 | E20: テニス
A21: 北中城
A22: 中城
A23: 西原
A24: 浦添
A25: 那覇
A26: 久米島
A27: 南大東
A28: 北大東
A29: 豊見城
A30: 糸満
A31: 八重瀬
A32: 南城
... A43: 与那国
